Package: rols Version: 2.28.0 Command: /home/biocbuild/bbs-3.17-bioc/R/bin/R CMD INSTALL rols StartedAt: 2023-10-15 15:13:17 -0400 (Sun, 15 Oct 2023) EndedAt: 2023-10-15 15:13:30 -0400 (Sun, 15 Oct 2023) EllapsedTime: 13.8 seconds RetCode: 0 Status: OK