Package: roar Version: 1.36.0 Command: F:\biocbuild\bbs-3.17-bioc\R\bin\R.exe CMD INSTALL roar StartedAt: 2023-10-15 16:10:58 -0400 (Sun, 15 Oct 2023) EndedAt: 2023-10-15 16:11:38 -0400 (Sun, 15 Oct 2023) EllapsedTime: 39.7 seconds RetCode: 0 Status: OK