Package: roar Version: 1.36.0 Command: chmod a+r roar -R && F:\biocbuild\bbs-3.17-bioc\R\bin\R.exe CMD build --keep-empty-dirs --no-resave-data roar StartedAt: 2023-10-15 21:54:30 -0400 (Sun, 15 Oct 2023) EndedAt: 2023-10-15 21:57:12 -0400 (Sun, 15 Oct 2023) EllapsedTime: 162.1 seconds RetCode: 0 Status: OK PackageFile: roar_1.36.0.tar.gz PackageFileSize: 721 KiB