Package: roar Version: 1.36.0 Command: rm -rf roar.buildbin-libdir && mkdir roar.buildbin-libdir && F:\biocbuild\bbs-3.17-bioc\R\bin\R.exe CMD INSTALL --build --library=roar.buildbin-libdir roar_1.36.0.tar.gz StartedAt: 2023-10-16 09:25:38 -0400 (Mon, 16 Oct 2023) EndedAt: 2023-10-16 09:26:20 -0400 (Mon, 16 Oct 2023) EllapsedTime: 41.9 seconds RetCode: 0 Status: OK PackageFile: roar_1.36.0.zip PackageFileSize: 1.059 MiB