Package: roar Version: 1.36.0 Command: /home/biocbuild/bbs-3.17-bioc/R/bin/R CMD check --install=check:roar.install-out.txt --library=/home/biocbuild/bbs-3.17-bioc/R/site-library --timings roar_1.36.0.tar.gz StartedAt: 2023-10-16 00:34:10 -0400 (Mon, 16 Oct 2023) EndedAt: 2023-10-16 00:40:29 -0400 (Mon, 16 Oct 2023) EllapsedTime: 379.4 seconds RetCode: 0 Status: OK CheckDir: roar.Rcheck Warnings: 0