Package: roar Version: 1.36.0 Command: /home/biocbuild/bbs-3.17-bioc/R/bin/R CMD build --keep-empty-dirs --no-resave-data roar StartedAt: 2023-10-15 18:16:10 -0400 (Sun, 15 Oct 2023) EndedAt: 2023-10-15 18:17:55 -0400 (Sun, 15 Oct 2023) EllapsedTime: 104.2 seconds RetCode: 0 Status: OK PackageFile: roar_1.36.0.tar.gz PackageFileSize: 719.2 KiB