Package: roar Version: 1.36.0 Command: /Library/Frameworks/R.framework/Resources/bin/R CMD INSTALL roar StartedAt: 2023-10-15 15:30:30 -0400 (Sun, 15 Oct 2023) EndedAt: 2023-10-15 15:32:13 -0400 (Sun, 15 Oct 2023) EllapsedTime: 102.7 seconds RetCode: 0 Status: OK