Package: roar Version: 1.36.0 Command: /Library/Frameworks/R.framework/Resources/bin/R CMD build --keep-empty-dirs --no-resave-data roar StartedAt: 2023-10-15 20:47:59 -0400 (Sun, 15 Oct 2023) EndedAt: 2023-10-15 20:52:20 -0400 (Sun, 15 Oct 2023) EllapsedTime: 260.6 seconds RetCode: 0 Status: OK PackageFile: roar_1.36.0.tar.gz PackageFileSize: 901.8 KiB