Package: rnaseqcomp Version: 1.30.0 Command: /home/biocbuild/bbs-3.17-bioc/R/bin/R CMD check --install=check:rnaseqcomp.install-out.txt --library=/home/biocbuild/bbs-3.17-bioc/R/site-library --timings rnaseqcomp_1.30.0.tar.gz StartedAt: 2023-10-16 00:33:10 -0400 (Mon, 16 Oct 2023) EndedAt: 2023-10-16 00:33:53 -0400 (Mon, 16 Oct 2023) EllapsedTime: 43.0 seconds RetCode: 0 Status: OK CheckDir: rnaseqcomp.Rcheck Warnings: 0