Package: rnaEditr Version: 1.10.0 Command: /Library/Frameworks/R.framework/Resources/bin/R CMD INSTALL rnaEditr StartedAt: 2023-10-15 16:05:29 -0400 (Sun, 15 Oct 2023) EndedAt: 2023-10-15 16:07:27 -0400 (Sun, 15 Oct 2023) EllapsedTime: 118.8 seconds RetCode: 0 Status: OK