Package: rnaEditr Version: 1.10.0 Command: /Library/Frameworks/R.framework/Resources/bin/R CMD build --keep-empty-dirs --no-resave-data rnaEditr StartedAt: 2023-10-15 20:46:01 -0400 (Sun, 15 Oct 2023) EndedAt: 2023-10-15 20:48:14 -0400 (Sun, 15 Oct 2023) EllapsedTime: 132.9 seconds RetCode: 0 Status: OK PackageFile: rnaEditr_1.10.0.tar.gz PackageFileSize: 1.075 MiB