Package: rnaEditr Version: 1.10.0 Command: rm -rf rnaEditr.buildbin-libdir && mkdir rnaEditr.buildbin-libdir && /Users/biocbuild/BBS/utils/build-universal.sh rnaEditr_1.10.0.tar.gz /Library/Frameworks/R.framework/Resources/bin/R rnaEditr.buildbin-libdir StartedAt: 2023-10-16 10:04:55 -0400 (Mon, 16 Oct 2023) EndedAt: 2023-10-16 10:07:04 -0400 (Mon, 16 Oct 2023) EllapsedTime: 128.9 seconds RetCode: 0 Status: OK PackageFile: rnaEditr_1.10.0.tgz PackageFileSize: 1.029 MiB