Package: rmspc Version: 1.6.0 Command: /Library/Frameworks/R.framework/Resources/bin/R CMD INSTALL rmspc StartedAt: 2023-10-15 15:44:09 -0400 (Sun, 15 Oct 2023) EndedAt: 2023-10-15 15:45:39 -0400 (Sun, 15 Oct 2023) EllapsedTime: 89.5 seconds RetCode: 0 Status: OK