Package: rmspc Version: 1.6.0 Command: /Library/Frameworks/R.framework/Resources/bin/R CMD check --install=check:rmspc.install-out.txt --library=/Library/Frameworks/R.framework/Resources/library --no-vignettes --timings rmspc_1.6.0.tar.gz StartedAt: 2023-10-16 06:12:49 -0400 (Mon, 16 Oct 2023) EndedAt: 2023-10-16 06:23:23 -0400 (Mon, 16 Oct 2023) EllapsedTime: 633.9 seconds RetCode: 0 Status: OK CheckDir: rmspc.Rcheck Warnings: 0