Package: rmelting Version: 1.16.0 Command: /home/biocbuild/bbs-3.17-bioc/R/bin/R CMD check --install=check:rmelting.install-out.txt --library=/home/biocbuild/bbs-3.17-bioc/R/site-library --timings rmelting_1.16.0.tar.gz StartedAt: 2023-10-16 00:29:35 -0400 (Mon, 16 Oct 2023) EndedAt: 2023-10-16 00:30:28 -0400 (Mon, 16 Oct 2023) EllapsedTime: 53.0 seconds RetCode: 0 Status: OK CheckDir: rmelting.Rcheck Warnings: 0