Package: rmelting Version: 1.16.0 Command: /home/biocbuild/bbs-3.17-bioc/R/bin/R CMD build --keep-empty-dirs --no-resave-data rmelting StartedAt: 2023-10-15 18:14:41 -0400 (Sun, 15 Oct 2023) EndedAt: 2023-10-15 18:15:04 -0400 (Sun, 15 Oct 2023) EllapsedTime: 22.9 seconds RetCode: 0 Status: OK PackageFile: rmelting_1.16.0.tar.gz PackageFileSize: 2.491 MiB