Package: rmelting Version: 1.16.0 Command: /Library/Frameworks/R.framework/Resources/bin/R CMD check --install=check:rmelting.install-out.txt --library=/Library/Frameworks/R.framework/Resources/library --no-vignettes --timings rmelting_1.16.0.tar.gz StartedAt: 2023-10-16 06:12:38 -0400 (Mon, 16 Oct 2023) EndedAt: 2023-10-16 06:14:17 -0400 (Mon, 16 Oct 2023) EllapsedTime: 99.8 seconds RetCode: 0 Status: OK CheckDir: rmelting.Rcheck Warnings: 0