Package: rmelting Version: 1.16.0 Command: /Library/Frameworks/R.framework/Resources/bin/R CMD build --keep-empty-dirs --no-resave-data rmelting StartedAt: 2023-10-15 20:45:03 -0400 (Sun, 15 Oct 2023) EndedAt: 2023-10-15 20:46:13 -0400 (Sun, 15 Oct 2023) EllapsedTime: 69.5 seconds RetCode: 0 Status: OK PackageFile: rmelting_1.16.0.tar.gz PackageFileSize: 2.491 MiB