Package: rmelting Version: 1.16.0 Command: rm -rf rmelting.buildbin-libdir && mkdir rmelting.buildbin-libdir && /Users/biocbuild/BBS/utils/build-universal.sh rmelting_1.16.0.tar.gz /Library/Frameworks/R.framework/Resources/bin/R rmelting.buildbin-libdir StartedAt: 2023-10-16 10:04:44 -0400 (Mon, 16 Oct 2023) EndedAt: 2023-10-16 10:04:58 -0400 (Mon, 16 Oct 2023) EllapsedTime: 13.4 seconds RetCode: 0 Status: OK PackageFile: rmelting_1.16.0.tgz PackageFileSize: 2.429 MiB