Package: rifiComparative Version: 1.0.1 Command: /home/biocbuild/bbs-3.17-bioc/R/bin/R CMD check --install=check:rifiComparative.install-out.txt --library=/home/biocbuild/bbs-3.17-bioc/R/site-library --timings rifiComparative_1.0.1.tar.gz StartedAt: 2023-10-16 00:26:57 -0400 (Mon, 16 Oct 2023) EndedAt: 2023-10-16 00:43:15 -0400 (Mon, 16 Oct 2023) EllapsedTime: 977.5 seconds RetCode: 0 Status: OK CheckDir: rifiComparative.Rcheck Warnings: 0