Package: rifi Version: 1.4.1 Command: /home/biocbuild/bbs-3.17-bioc/R/bin/R CMD INSTALL rifi StartedAt: 2023-10-15 15:34:48 -0400 (Sun, 15 Oct 2023) EndedAt: 2023-10-15 15:35:24 -0400 (Sun, 15 Oct 2023) EllapsedTime: 36.8 seconds RetCode: 0 Status: OK