Package: rifi Version: 1.4.1 Command: /home/biocbuild/bbs-3.17-bioc/R/bin/R CMD build --keep-empty-dirs --no-resave-data rifi StartedAt: 2023-10-15 18:13:18 -0400 (Sun, 15 Oct 2023) EndedAt: 2023-10-15 18:14:41 -0400 (Sun, 15 Oct 2023) EllapsedTime: 83.0 seconds RetCode: 0 Status: OK PackageFile: rifi_1.4.1.tar.gz PackageFileSize: 7.196 MiB