Package: rifi Version: 1.4.1 Command: /Library/Frameworks/R.framework/Resources/bin/R CMD INSTALL rifi StartedAt: 2023-10-15 15:59:58 -0400 (Sun, 15 Oct 2023) EndedAt: 2023-10-15 16:02:00 -0400 (Sun, 15 Oct 2023) EllapsedTime: 121.2 seconds RetCode: 0 Status: OK