Package: rifi Version: 1.4.1 Command: /Library/Frameworks/R.framework/Resources/bin/R CMD check --install=check:rifi.install-out.txt --library=/Library/Frameworks/R.framework/Resources/library --no-vignettes --timings rifi_1.4.1.tar.gz StartedAt: 2023-10-16 06:05:38 -0400 (Mon, 16 Oct 2023) EndedAt: 2023-10-16 06:30:37 -0400 (Mon, 16 Oct 2023) EllapsedTime: 1499.1 seconds RetCode: 0 Status: WARNINGS CheckDir: rifi.Rcheck Warnings: 2