Package: rifi Version: 1.4.1 Command: /Library/Frameworks/R.framework/Resources/bin/R CMD build --keep-empty-dirs --no-resave-data rifi StartedAt: 2023-10-15 20:41:57 -0400 (Sun, 15 Oct 2023) EndedAt: 2023-10-15 20:45:22 -0400 (Sun, 15 Oct 2023) EllapsedTime: 205.4 seconds RetCode: 0 Status: OK PackageFile: rifi_1.4.1.tar.gz PackageFileSize: 7.197 MiB