Package: rifi Version: 1.4.1 Command: rm -rf rifi.buildbin-libdir && mkdir rifi.buildbin-libdir && /Users/biocbuild/BBS/utils/build-universal.sh rifi_1.4.1.tar.gz /Library/Frameworks/R.framework/Resources/bin/R rifi.buildbin-libdir StartedAt: 2023-10-16 10:03:49 -0400 (Mon, 16 Oct 2023) EndedAt: 2023-10-16 10:06:02 -0400 (Mon, 16 Oct 2023) EllapsedTime: 133.4 seconds RetCode: 0 Status: OK PackageFile: rifi_1.4.1.tgz PackageFileSize: 4.751 MiB