Package: ribosomeProfilingQC Version: 1.12.0 Command: rm -rf ribosomeProfilingQC.buildbin-libdir && mkdir ribosomeProfilingQC.buildbin-libdir && F:\biocbuild\bbs-3.17-bioc\R\bin\R.exe CMD INSTALL --build --library=ribosomeProfilingQC.buildbin-libdir ribosomeProfilingQC_1.12.0.tar.gz StartedAt: 2023-10-16 09:23:50 -0400 (Mon, 16 Oct 2023) EndedAt: 2023-10-16 09:24:55 -0400 (Mon, 16 Oct 2023) EllapsedTime: 65.3 seconds RetCode: 0 Status: OK PackageFile: ribosomeProfilingQC_1.12.0.zip PackageFileSize: 2.943 MiB