Package: ribosomeProfilingQC Version: 1.12.0 Command: /home/biocbuild/bbs-3.17-bioc/R/bin/R CMD build --keep-empty-dirs --no-resave-data ribosomeProfilingQC StartedAt: 2023-10-15 18:12:54 -0400 (Sun, 15 Oct 2023) EndedAt: 2023-10-15 18:17:21 -0400 (Sun, 15 Oct 2023) EllapsedTime: 266.9 seconds RetCode: 0 Status: OK PackageFile: ribosomeProfilingQC_1.12.0.tar.gz PackageFileSize: 2.843 MiB