Package: ribor Version: 1.12.0 Command: F:\biocbuild\bbs-3.17-bioc\R\bin\R.exe CMD INSTALL ribor StartedAt: 2023-10-15 16:00:48 -0400 (Sun, 15 Oct 2023) EndedAt: 2023-10-15 16:01:04 -0400 (Sun, 15 Oct 2023) EllapsedTime: 16.7 seconds RetCode: 0 Status: OK