Package: ribor Version: 1.12.0 Command: rm -rf ribor.buildbin-libdir && mkdir ribor.buildbin-libdir && F:\biocbuild\bbs-3.17-bioc\R\bin\R.exe CMD INSTALL --build --library=ribor.buildbin-libdir ribor_1.12.0.tar.gz StartedAt: 2023-10-16 09:23:45 -0400 (Mon, 16 Oct 2023) EndedAt: 2023-10-16 09:24:03 -0400 (Mon, 16 Oct 2023) EllapsedTime: 17.6 seconds RetCode: 0 Status: OK PackageFile: ribor_1.12.0.zip PackageFileSize: 4.09 MiB