Package: ribor Version: 1.12.0 Command: /home/biocbuild/bbs-3.17-bioc/R/bin/R CMD check --install=check:ribor.install-out.txt --library=/home/biocbuild/bbs-3.17-bioc/R/site-library --timings ribor_1.12.0.tar.gz StartedAt: 2023-10-16 00:25:18 -0400 (Mon, 16 Oct 2023) EndedAt: 2023-10-16 00:27:37 -0400 (Mon, 16 Oct 2023) EllapsedTime: 139.4 seconds RetCode: 0 Status: OK CheckDir: ribor.Rcheck Warnings: 0