Package: ribor Version: 1.12.0 Command: /home/biocbuild/bbs-3.17-bioc/R/bin/R CMD build --keep-empty-dirs --no-resave-data ribor StartedAt: 2023-10-15 18:12:45 -0400 (Sun, 15 Oct 2023) EndedAt: 2023-10-15 18:13:46 -0400 (Sun, 15 Oct 2023) EllapsedTime: 61.2 seconds RetCode: 0 Status: OK PackageFile: ribor_1.12.0.tar.gz PackageFileSize: 4.298 MiB