Package: riboSeqR Version: 1.34.0 Command: F:\biocbuild\bbs-3.17-bioc\R\bin\R.exe CMD check --no-multiarch --install=check:riboSeqR.install-out.txt --library=F:\biocbuild\bbs-3.17-bioc\R\library --no-vignettes --timings riboSeqR_1.34.0.tar.gz StartedAt: 2023-10-16 06:01:29 -0400 (Mon, 16 Oct 2023) EndedAt: 2023-10-16 06:03:44 -0400 (Mon, 16 Oct 2023) EllapsedTime: 135.0 seconds RetCode: 0 Status: OK CheckDir: riboSeqR.Rcheck Warnings: 0