Package: riboSeqR Version: 1.34.0 Command: rm -rf riboSeqR.buildbin-libdir && mkdir riboSeqR.buildbin-libdir && F:\biocbuild\bbs-3.17-bioc\R\bin\R.exe CMD INSTALL --build --library=riboSeqR.buildbin-libdir riboSeqR_1.34.0.tar.gz StartedAt: 2023-10-16 09:23:47 -0400 (Mon, 16 Oct 2023) EndedAt: 2023-10-16 09:24:09 -0400 (Mon, 16 Oct 2023) EllapsedTime: 21.9 seconds RetCode: 0 Status: OK PackageFile: riboSeqR_1.34.0.zip PackageFileSize: 3.963 MiB