Package: riboSeqR Version: 1.34.0 Command: /home/biocbuild/bbs-3.17-bioc/R/bin/R CMD INSTALL riboSeqR StartedAt: 2023-10-15 15:31:57 -0400 (Sun, 15 Oct 2023) EndedAt: 2023-10-15 15:32:13 -0400 (Sun, 15 Oct 2023) EllapsedTime: 16.0 seconds RetCode: 0 Status: OK