Package: riboSeqR Version: 1.34.0 Command: /home/biocbuild/bbs-3.17-bioc/R/bin/R CMD check --install=check:riboSeqR.install-out.txt --library=/home/biocbuild/bbs-3.17-bioc/R/site-library --timings riboSeqR_1.34.0.tar.gz StartedAt: 2023-10-16 00:25:26 -0400 (Mon, 16 Oct 2023) EndedAt: 2023-10-16 00:27:37 -0400 (Mon, 16 Oct 2023) EllapsedTime: 130.7 seconds RetCode: 0 Status: OK CheckDir: riboSeqR.Rcheck Warnings: 0