Package: riboSeqR Version: 1.34.0 Command: /home/biocbuild/bbs-3.17-bioc/R/bin/R CMD build --keep-empty-dirs --no-resave-data riboSeqR StartedAt: 2023-10-15 18:12:53 -0400 (Sun, 15 Oct 2023) EndedAt: 2023-10-15 18:13:18 -0400 (Sun, 15 Oct 2023) EllapsedTime: 24.3 seconds RetCode: 0 Status: OK PackageFile: riboSeqR_1.34.0.tar.gz PackageFileSize: 3.65 MiB