Package: riboSeqR Version: 1.34.0 Command: /Library/Frameworks/R.framework/Resources/bin/R CMD build --keep-empty-dirs --no-resave-data riboSeqR StartedAt: 2023-10-15 20:41:34 -0400 (Sun, 15 Oct 2023) EndedAt: 2023-10-15 20:42:40 -0400 (Sun, 15 Oct 2023) EllapsedTime: 66.1 seconds RetCode: 0 Status: OK PackageFile: riboSeqR_1.34.0.tar.gz PackageFileSize: 3.649 MiB