Package: rhdf5client Version: 1.22.3 Command: rm -rf rhdf5client.buildbin-libdir && mkdir rhdf5client.buildbin-libdir && F:\biocbuild\bbs-3.17-bioc\R\bin\R.exe CMD INSTALL --build --library=rhdf5client.buildbin-libdir rhdf5client_1.22.3.tar.gz StartedAt: 2023-10-16 09:23:14 -0400 (Mon, 16 Oct 2023) EndedAt: 2023-10-16 09:23:41 -0400 (Mon, 16 Oct 2023) EllapsedTime: 26.9 seconds RetCode: 0 Status: OK PackageFile: rhdf5client_1.22.3.zip PackageFileSize: 970.3 KiB