Package: rhdf5client Version: 1.22.3 Command: /home/biocbuild/bbs-3.17-bioc/R/bin/R CMD INSTALL rhdf5client StartedAt: 2023-10-15 15:13:09 -0400 (Sun, 15 Oct 2023) EndedAt: 2023-10-15 15:13:28 -0400 (Sun, 15 Oct 2023) EllapsedTime: 18.8 seconds RetCode: 0 Status: OK