Package: rhdf5client Version: 1.22.3 Command: /home/biocbuild/bbs-3.17-bioc/R/bin/R CMD check --install=check:rhdf5client.install-out.txt --library=/home/biocbuild/bbs-3.17-bioc/R/site-library --timings rhdf5client_1.22.3.tar.gz StartedAt: 2023-10-16 00:24:39 -0400 (Mon, 16 Oct 2023) EndedAt: 2023-10-16 00:26:39 -0400 (Mon, 16 Oct 2023) EllapsedTime: 120.3 seconds RetCode: 0 Status: OK CheckDir: rhdf5client.Rcheck Warnings: 0