Package: rhdf5client Version: 1.22.3 Command: /Library/Frameworks/R.framework/Resources/bin/R CMD INSTALL rhdf5client StartedAt: 2023-10-15 15:11:27 -0400 (Sun, 15 Oct 2023) EndedAt: 2023-10-15 15:12:22 -0400 (Sun, 15 Oct 2023) EllapsedTime: 54.3 seconds RetCode: 0 Status: OK