Package: rhdf5client Version: 1.22.3 Command: /Library/Frameworks/R.framework/Resources/bin/R CMD check --install=check:rhdf5client.install-out.txt --library=/Library/Frameworks/R.framework/Resources/library --no-vignettes --timings rhdf5client_1.22.3.tar.gz StartedAt: 2023-10-16 06:03:53 -0400 (Mon, 16 Oct 2023) EndedAt: 2023-10-16 06:08:18 -0400 (Mon, 16 Oct 2023) EllapsedTime: 264.6 seconds RetCode: 0 Status: OK CheckDir: rhdf5client.Rcheck Warnings: 0