Package: rhdf5client Version: 1.22.3 Command: /Library/Frameworks/R.framework/Resources/bin/R CMD build --keep-empty-dirs --no-resave-data rhdf5client StartedAt: 2023-10-15 20:40:31 -0400 (Sun, 15 Oct 2023) EndedAt: 2023-10-15 20:41:23 -0400 (Sun, 15 Oct 2023) EllapsedTime: 52.2 seconds RetCode: 0 Status: OK PackageFile: rhdf5client_1.22.3.tar.gz PackageFileSize: 529.9 KiB