Package: rhdf5client Version: 1.22.3 Command: rm -rf rhdf5client.buildbin-libdir && mkdir rhdf5client.buildbin-libdir && /Users/biocbuild/BBS/utils/build-universal.sh rhdf5client_1.22.3.tar.gz /Library/Frameworks/R.framework/Resources/bin/R rhdf5client.buildbin-libdir StartedAt: 2023-10-16 10:03:10 -0400 (Mon, 16 Oct 2023) EndedAt: 2023-10-16 10:04:09 -0400 (Mon, 16 Oct 2023) EllapsedTime: 59.2 seconds RetCode: 0 Status: OK PackageFile: rhdf5client_1.22.3.tgz PackageFileSize: 964.9 KiB