Package: rhdf5 Version: 2.44.0 Command: F:\biocbuild\bbs-3.17-bioc\R\bin\R.exe CMD check --no-multiarch --install=check:rhdf5.install-out.txt --library=F:\biocbuild\bbs-3.17-bioc\R\library --no-vignettes --timings rhdf5_2.44.0.tar.gz StartedAt: 2023-10-16 05:57:35 -0400 (Mon, 16 Oct 2023) EndedAt: 2023-10-16 05:59:55 -0400 (Mon, 16 Oct 2023) EllapsedTime: 140.5 seconds RetCode: 0 Status: OK CheckDir: rhdf5.Rcheck Warnings: 0