Package: rhdf5 Version: 2.44.0 Command: rm -rf rhdf5.buildbin-libdir && mkdir rhdf5.buildbin-libdir && F:\biocbuild\bbs-3.17-bioc\R\bin\R.exe CMD INSTALL --build --library=rhdf5.buildbin-libdir rhdf5_2.44.0.tar.gz StartedAt: 2023-10-16 09:23:12 -0400 (Mon, 16 Oct 2023) EndedAt: 2023-10-16 09:24:01 -0400 (Mon, 16 Oct 2023) EllapsedTime: 48.6 seconds RetCode: 0 Status: OK PackageFile: rhdf5_2.44.0.zip PackageFileSize: 4.343 MiB