Package: rgsepd Version: 1.32.0 Command: /home/biocbuild/bbs-3.17-bioc/R/bin/R CMD INSTALL rgsepd StartedAt: 2023-10-15 15:22:53 -0400 (Sun, 15 Oct 2023) EndedAt: 2023-10-15 15:24:43 -0400 (Sun, 15 Oct 2023) EllapsedTime: 109.7 seconds RetCode: 0 Status: OK