Package: rgsepd Version: 1.32.0 Command: /Library/Frameworks/R.framework/Resources/bin/R CMD check --install=check:rgsepd.install-out.txt --library=/Library/Frameworks/R.framework/Resources/library --no-vignettes --timings rgsepd_1.32.0.tar.gz StartedAt: 2023-10-16 06:03:14 -0400 (Mon, 16 Oct 2023) EndedAt: 2023-10-16 06:20:26 -0400 (Mon, 16 Oct 2023) EllapsedTime: 1031.3 seconds RetCode: 0 Status: OK CheckDir: rgsepd.Rcheck Warnings: 0