Package: rgsepd Version: 1.32.0 Command: /Library/Frameworks/R.framework/Resources/bin/R CMD build --keep-empty-dirs --no-resave-data rgsepd StartedAt: 2023-10-15 20:40:16 -0400 (Sun, 15 Oct 2023) EndedAt: 2023-10-15 20:47:19 -0400 (Sun, 15 Oct 2023) EllapsedTime: 423.0 seconds RetCode: 0 Status: OK PackageFile: rgsepd_1.32.0.tar.gz PackageFileSize: 1.2 MiB